BEGIN:VCALENDAR
VERSION:2.0
PRODID:-//Divine Direction by Mia - ECPv6.15.20//NONSGML v1.0//EN
CALSCALE:GREGORIAN
METHOD:PUBLISH
X-ORIGINAL-URL:https://divinedirection.net
X-WR-CALDESC:Events for Divine Direction by Mia
REFRESH-INTERVAL;VALUE=DURATION:PT1H
X-Robots-Tag:noindex
X-PUBLISHED-TTL:PT1H
BEGIN:VTIMEZONE
TZID:UTC
BEGIN:STANDARD
TZOFFSETFROM:+0000
TZOFFSETTO:+0000
TZNAME:UTC
DTSTART:20220101T000000
END:STANDARD
END:VTIMEZONE
BEGIN:VEVENT
DTSTART;TZID=UTC:20230512T170000
DTEND;TZID=UTC:20230512T200000
DTSTAMP:20260425T192648
CREATED:20230328T212939Z
LAST-MODIFIED:20230328T212939Z
UID:4510-1683910800-1683921600@divinedirection.net
SUMMARY:LightWorker's Of Des Moines
DESCRIPTION:Gathering of Lightworkers \nA time to see old friends and to make new. Make connections and share ideas. \nGuest Speaker:  \nMia Hudson will share how you can step into your power by creating your own Sigil. \nWhen:  \nMay 12\, 2023  \n5-8pm \nWhere: \n\n\n3801 SW 28th Street\nDes Moines\, IA. 50321\n480-540-7410\n\nBring:\nFeel free to bring a snack or drinks to share.  We will meet downstairs.  Come on in and to the left down the stairs.  Friends are always welcome.
URL:https://divinedirection.net/event/lightworkers-of-des-moines/
LOCATION:IA
CATEGORIES:workshops
END:VEVENT
BEGIN:VEVENT
DTSTART;TZID=UTC:20230521T110000
DTEND;TZID=UTC:20230522T180000
DTSTAMP:20260425T192648
CREATED:20230131T223406Z
LAST-MODIFIED:20230131T223406Z
UID:4351-1684666800-1684778400@divinedirection.net
SUMMARY:33rd Annual Metaphysical Fair
DESCRIPTION:May 20-21\, 2023 @ 11:00 am – 6:00 pm\n\nIowa Metaphysical Fair\nIowa State Fairgrounds 3000 E Grand Ave\, Des Moines\n\n\nI will be a vendor at the 33rd Annual Iowa Metaphysical Fair. My 3rd year participating\, and I am so excited\, we will be at the Iowa State Fair grounds in the 4-H building. I will be offering my Intuitive Reading’s\, at a Special Event Only Price. \nI will use Tarot cards\, Witch Stones\, Crystals and a Witch’s Bridal to give you a magical reading of wisdom and guidance.\n\n\n\n\nHope to see you there\, look for my Gypsy themed booth!\nDont want to wait? Book Now! 
URL:https://divinedirection.net/event/33rd-annual-metaphysical-fair/
LOCATION:IA
CATEGORIES:Psychic Fair
END:VEVENT
END:VCALENDAR