BEGIN:VCALENDAR
VERSION:2.0
PRODID:-//Divine Direction by Mia - ECPv6.15.20//NONSGML v1.0//EN
CALSCALE:GREGORIAN
METHOD:PUBLISH
X-WR-CALNAME:Divine Direction by Mia
X-ORIGINAL-URL:https://divinedirection.net
X-WR-CALDESC:Events for Divine Direction by Mia
REFRESH-INTERVAL;VALUE=DURATION:PT1H
X-Robots-Tag:noindex
X-PUBLISHED-TTL:PT1H
BEGIN:VTIMEZONE
TZID:UTC
BEGIN:STANDARD
TZOFFSETFROM:+0000
TZOFFSETTO:+0000
TZNAME:UTC
DTSTART:20250101T000000
END:STANDARD
END:VTIMEZONE
BEGIN:VEVENT
DTSTART;TZID=UTC:20260613T110000
DTEND;TZID=UTC:20260614T180000
DTSTAMP:20260423T235213
CREATED:20240218T172622Z
LAST-MODIFIED:20260129T192307Z
UID:5333-1781348400-1781460000@divinedirection.net
SUMMARY:36th Annual IA Metaphysical Fair
DESCRIPTION:June 13-14\, 2026@ 11:00 am – 6:00 pm\n\nIowa Metaphysical Fair\nIowa State Fairgrounds 3000 E Grand Ave\, Des Moines\nAdults $8; 12 & Under Free; 2 day pass $12 Saturday 11am- 8 pm\n\n\nI will be a vendor at the 34th Annual Iowa Metaphysical Fair. My 5th year participating\, and I am so excited\, we will be at the Iowa State Fair grounds in the 4-H building. I will be offering my Intuitive Reading’s\, at a Special Event Only Price. \nI will use Tarot cards\, Witch Stones\, Crystals and a Witch’s Bridal to give you a magical reading of wisdom and guidance.\n\n\n\nDon’t want to wait? Book Now! Text me 515-577-5243 \nSaturday 11am- 7pm  \nSunday 11am- 6pm
URL:https://divinedirection.net/event/33rd-annual-metaphysical-fair-copy/
LOCATION:IA
CATEGORIES:Psychic Fair
ATTACH;FMTTYPE=image/jpeg:https://divinedirection.net/wp-content/uploads/2024/02/2-1.jpg
END:VEVENT
BEGIN:VEVENT
DTSTART;TZID=UTC:20260711T160000
DTEND;TZID=UTC:20260712T223000
DTSTAMP:20260423T235213
CREATED:20251023T004931Z
LAST-MODIFIED:20260312T223907Z
UID:6314-1783785600-1783895400@divinedirection.net
SUMMARY:Over Night Retreat
DESCRIPTION:Join us for an immersive journey of deep restoration and reconnection.  \n\nTogether\, we’ll move gently through experiences designed to cleanse\, awaken\, and renew the body\, mind\, and spirit. \nContact me for more information\, this will take place in Des Moines.
URL:https://divinedirection.net/event/july-retreat-renewal-plant-medicine-overnight-retreat/
LOCATION:Dragon Queen Retreats & Event Center\, 3801 SW 28th Street\, Des Moines\, IA\, 50321\, United States
CATEGORIES:Retreats
ATTACH;FMTTYPE=image/jpeg:https://divinedirection.net/wp-content/uploads/2025/10/retreat-july.jpg
END:VEVENT
END:VCALENDAR