BEGIN:VCALENDAR
VERSION:2.0
PRODID:-//Divine Direction by Mia - ECPv6.15.20//NONSGML v1.0//EN
CALSCALE:GREGORIAN
METHOD:PUBLISH
X-ORIGINAL-URL:https://divinedirection.net
X-WR-CALDESC:Events for Divine Direction by Mia
REFRESH-INTERVAL;VALUE=DURATION:PT1H
X-Robots-Tag:noindex
X-PUBLISHED-TTL:PT1H
BEGIN:VTIMEZONE
TZID:UTC
BEGIN:STANDARD
TZOFFSETFROM:+0000
TZOFFSETTO:+0000
TZNAME:UTC
DTSTART:20250101T000000
END:STANDARD
END:VTIMEZONE
BEGIN:VEVENT
DTSTART;TZID=UTC:20260222T140000
DTEND;TZID=UTC:20260222T170000
DTSTAMP:20260424T001723
CREATED:20260109T203822Z
LAST-MODIFIED:20260112T155643Z
UID:6404-1771768800-1771779600@divinedirection.net
SUMMARY:Trans-Tables
DESCRIPTION:A spiritual healing session with the aid of teams of master souls to help everyone release pressures  caused by the confusion of outside influences. This especially focuses on assisting souls who have passed on to complete their transition crossover. Cost $20
URL:https://divinedirection.net/event/trans-tables/
LOCATION:community Center\, 3000 Grand Ave\, Des Moines\, IA\, 50312
CATEGORIES:workshops
ATTACH;FMTTYPE=image/jpeg:https://divinedirection.net/wp-content/uploads/2026/01/Trance-Tables.jpg
END:VEVENT
END:VCALENDAR