BEGIN:VCALENDAR
VERSION:2.0
PRODID:-//Divine Direction by Mia - ECPv6.15.20//NONSGML v1.0//EN
CALSCALE:GREGORIAN
METHOD:PUBLISH
X-WR-CALNAME:Divine Direction by Mia
X-ORIGINAL-URL:https://divinedirection.net
X-WR-CALDESC:Events for Divine Direction by Mia
REFRESH-INTERVAL;VALUE=DURATION:PT1H
X-Robots-Tag:noindex
X-PUBLISHED-TTL:PT1H
BEGIN:VTIMEZONE
TZID:UTC
BEGIN:STANDARD
TZOFFSETFROM:+0000
TZOFFSETTO:+0000
TZNAME:UTC
DTSTART:20230101T000000
END:STANDARD
END:VTIMEZONE
BEGIN:VEVENT
DTSTART;TZID=UTC:20240702T080000
DTEND;TZID=UTC:20240702T170000
DTSTAMP:20260425T034249
CREATED:20240414T212612Z
LAST-MODIFIED:20240829T165724Z
UID:5449-1719907200-1719939600@divinedirection.net
SUMMARY:Sacred Tuesday- Aligning Chakra's
DESCRIPTION:Come enjoy a Guided Meditation with The Golden Ratio Frequency (1.618 Hz) and the Natural Frequency of the Universe (432 Hz).  \n  \n\nThe Golden Ratio Frequency found at 1.618 Hz\, this universal frequency is believed to promote a soothing ambience due to its foundation in the very organization of the Universe.  Benefits healthy organs but also enhances the connection between brain and spirit\, and therefore\, greater ability to harness the power or energy of your chakras to manifest and transform your life through balance and alignment.  The energy source of the chakras has a direct influence on your intellect\, feelings and emotions. \n\n  \n\nThe Natural Frequency of the Universe found at 432 Hz transmits healing energy\, primarily because it’s a tone associated with the connection between man and nature. Listening to the Natural Frequency of the Universe being played in the background while engaged in guided meditation helps facilitate added benefits and focus that can help you realign\, unblock\, and heal your chakras. A number of benefits are associated with the Natural Frequency of the Universe and rebalancing and restoring harmony. 
URL:https://divinedirection.net/event/sacred-tuesday-aligning-chakras/
LOCATION:Sacred Tuesdays\, 6005 Winona Ave\, Des Moines\, IA\, 50312\, United States
CATEGORIES:workshops
END:VEVENT
END:VCALENDAR