BEGIN:VCALENDAR
VERSION:2.0
PRODID:-//Divine Direction by Mia - ECPv6.15.20//NONSGML v1.0//EN
CALSCALE:GREGORIAN
METHOD:PUBLISH
X-ORIGINAL-URL:https://divinedirection.net
X-WR-CALDESC:Events for Divine Direction by Mia
REFRESH-INTERVAL;VALUE=DURATION:PT1H
X-Robots-Tag:noindex
X-PUBLISHED-TTL:PT1H
BEGIN:VTIMEZONE
TZID:UTC
BEGIN:STANDARD
TZOFFSETFROM:+0000
TZOFFSETTO:+0000
TZNAME:UTC
DTSTART:20230101T000000
END:STANDARD
END:VTIMEZONE
BEGIN:VEVENT
DTSTART;TZID=UTC:20251115T100000
DTEND;TZID=UTC:20251115T160000
DTSTAMP:20260423T195442
CREATED:20251023T004314Z
LAST-MODIFIED:20251023T005125Z
UID:6310-1763200800-1763222400@divinedirection.net
SUMMARY:Kambo Ceremony
DESCRIPTION:I invite you to join me for a sacred Kambo ceremony\, a profound journey into healing and transformation.\nTogether\, we will honor the ancient medicines of Happé\, Sananga\, and Kambo\, allowing these powerful allies to guide us on our spiritual paths.\n—**Benefits of Our Sacred Medicines:**\n**Kambo:**– **Detoxification**: Embrace the cleansing power of Kambo as it washes away the physical and energetic toxins\, renewing your spirit.\n– **Immune System Boost**: Open your heart to the healing energies that strengthen your body’s defenses and vitality.\n– **Emotional Release**: Experience the liberation of stored emotions\, allowing your true essence to shine through.\n– **Increased Energy**: Feel the surge of natural energy and clarity\, awakening your mind and spirit.\n– **Pain Relief**: Allow Kambo to help you release chronic pain\, inviting comfort and ease into your being.\n**Happé Ceremony** \n– **Mental Clarity**: Invite a wave of focused awareness\, enhancing your connection to the present moment.\n– **Grounding**: Find your center as Happé helps anchor your spirit during this sacred experience.\n– **Cleansing**: Experience the refreshing sensation of clarity as it opens your breath and sinuses\, harmonizing your energy.\n****Sananga:** \n– **Vision Enhancement**: Open your inner and outer sight\, deepening your understanding and perception of the world around you.\n– **Emotional Cleansing**: Release emotional blockages\, inviting healing and light into your heart.\n– **Spiritual Awakening**: Deepen your meditation practice\, connecting with the divine energies that surround us.\nWe welcome you to this sacred space\, where we will explore the depths of these powerful medicines together. Let us gather in love\, connection\, and healing\, as we embark on this transformative journey.\n **Reserve your space today!** 515-512-0330 text or PM please.Specific guidance upon registration will be shared by email.
URL:https://divinedirection.net/event/kambo-ceremony-plant-medicine/
LOCATION:Sacred Tuesdays\, 6005 Winona Ave\, Des Moines\, IA\, 50312\, United States
CATEGORIES:Retreats
ATTACH;FMTTYPE=image/jpeg:https://divinedirection.net/wp-content/uploads/2025/08/frog.jpg
END:VEVENT
BEGIN:VEVENT
DTSTART;TZID=UTC:20251011T160000
DTEND;TZID=UTC:20251012T103000
DTSTAMP:20260423T195442
CREATED:20250626T174523Z
LAST-MODIFIED:20250716T161525Z
UID:6055-1760198400-1760265000@divinedirection.net
SUMMARY:Clearing the Ancestral Lineage:  Overnight Retreat
DESCRIPTION:Clearing the Ancestral Lineage: A Sacred Healing Event\nOctober 11/12\, 2025\n \nJoin us for a powerful gathering dedicated to clearing and healing the ancestral lineage. This immersive experience offers an opportunity to release inherited patterns\, unspoken grief\, and generational burdens—while honoring the wisdom\, resilience\, and strength of those who came before us.\n \nTogether\, in sacred ceremony\, we will engage in gentle yet profound practices that open pathways for remembrance\, reconciliation\, and energetic repair. Through ritual\, meditation\, altar work\, and intentional release\, we will clear what no longer serves\, making space for renewed balance and deeper connection to our roots.\n \nThis is a sacred call for those guided to do the work not only for themselves but for the seven generations before and after. Whether or not you know your ancestral stories\, your healing and your prayers will ripple across timelines and lifetimes.\n \nOur time together may include:\n\n• Creation of a communal ancestral altar\n• Guided lineage-clearing ritual\n• Reflective journaling and personal insight prompts\n• Fire ceremony \n• Heart-centered sharing in a safe\, supportive space\n• Journey with Plant Medicine\n \nCome as you are. Bring your open heart\, your prayers\, and any photographs or sacred items you feel called to place on the altar.\n\n\nInvestment: $295 includes meals\n  \n\nEarly intention-setting is encouraged.
URL:https://divinedirection.net/event/clearing-the-ancestral-lineage/
LOCATION:Dragon Queen Retreats & Event Center\, 3801 SW 28th Street\, Des Moines\, IA\, 50321\, United States
CATEGORIES:Retreats
ATTACH;FMTTYPE=image/jpeg:https://divinedirection.net/wp-content/uploads/2025/06/4.jpg
END:VEVENT
BEGIN:VEVENT
DTSTART;TZID=UTC:20250711T170000
DTEND;TZID=UTC:20250712T133000
DTSTAMP:20260423T195442
CREATED:20250626T170503Z
LAST-MODIFIED:20250626T170503Z
UID:6049-1752253200-1752327000@divinedirection.net
SUMMARY:Whispers From the Forest Retreat
DESCRIPTION:WHERE: Des Moines\, IA \nWHEN: July 11-12 \nINVESTMENT: $295  \n\n\nJoin us for a soul-nourishingovernight retreat designed to bring you into deeper alignment with yourself through intentional practices\, sacred plant medicine\, and community connection.\n\n\n\nSome of the Retreat Highlights that are offered:  \n• Breathwork & Somatic Movement: Inspired movement to further release\, intergrate and embody your insights.\n• Forest Quest:  Get ready to experience profound and deep introspection. This sacrd plant will stimulate creativity and personal growth this journey invites you into       communion with the medicine\, yourself and the collective field.\n• Connection: Participate in heart-centered activities designed to foster trust\, vulnerability\, and meaningful relationships among attendees.\n• Sacred Community: Gather in a supportive circle where your voice is heard\, your presence celebrated\, and your spirit uplifted.\n\n\n\nThis overnight retreat is more than a pause from daily life; it’s an invitation to come home to yourself. Together\, we will weave a tapestry of sacred moments that honor the divine within and around us. Whether you’re new to this path or have walked it before\, this retreat promises inspiration\, healing\, and connection.\n\n\nHave question contact me.  \nCome as you are\, and leave as the most authentic version of yourself.
URL:https://divinedirection.net/event/whispers-from-the-forest-retreat/
LOCATION:Dragon Queen Retreats & Event Center\, 3801 SW 28th Street\, Des Moines\, IA\, 50321\, United States
CATEGORIES:Retreats
ATTACH;FMTTYPE=image/jpeg:https://divinedirection.net/wp-content/uploads/2023/03/3-4.jpg
END:VEVENT
BEGIN:VEVENT
DTSTART;TZID=UTC:20250221T080000
DTEND;TZID=UTC:20250223T170000
DTSTAMP:20260423T195442
CREATED:20250115T205530Z
LAST-MODIFIED:20250115T210049Z
UID:5726-1740124800-1740330000@divinedirection.net
SUMMARY:SACRED WOMEN'S WEEKEND RETREAT
DESCRIPTION:Step into a nurturing space of self-discovery\, connection\, and sacred community at our women’s weekend retreat. This transformative gathering offers a journey to align with your inner wisdom and embrace the healing power of sisterhood. \nMore info (click)
URL:https://divinedirection.net/event/sacred-womens-weekend-retreat/
LOCATION:DECORAH IOWA\, 692 West Water St\, Decorah\, IA\, 52101\, United States
CATEGORIES:Retreats
ATTACH;FMTTYPE=image/jpeg:https://divinedirection.net/wp-content/uploads/2023/03/2.jpg
END:VEVENT
BEGIN:VEVENT
DTSTART;TZID=UTC:20241115T170000
DTEND;TZID=UTC:20241117T000000
DTSTAMP:20260423T195442
CREATED:20240911T222849Z
LAST-MODIFIED:20240911T223025Z
UID:5590-1731690000-1731801600@divinedirection.net
SUMMARY:Ayahuasca Ceremony
DESCRIPTION:Discover the incredible potential of plant medicine in promoting trauma recovery and neural renewal. \n\nEmpower yourself to take control of your healing journey! \n\n\n\nJoin us for a transformative Yage Ceremony Weekend with Taita Pedro November 15th to 17th! \n\n\n\nExperience the ancient healing traditions of the indigenous people of the Amazon rainforest. This weekend retreat will include:\n\n\n 1 night ceremony\n 2 day ceremonies\n Movement and yoga sessions\n Vegetarian meals\n 2 pre-ceremony integration calls\n 5 post-ceremony integration calls\n\n\nBenefits of Yage Ceremony:\n Deep spiritual healing and self-discovery\n Emotional release and trauma healing\n Increased self-awareness and clarity\n Connection with nature and the universe\n Personal growth and transformation\n\n\n\nRetreat Cost: $975.00\nPlease note that we do not charge for the medicine. The cost goes towards covering the overhead expenses of the event\, including bringing Taita Pedro to facilitate the ceremonies.\n\n\n\nDon’t miss this opportunity to embark on a profound journey of healing and transformation. Limited spots available. Reserve your spot today!\n\n\n \n\n\nPlease note that participation in the Yage Ceremony requires preparation and commitment. We recommend consulting with your healthcare professional before attending.\n\n\n \n \nFOR QUESTIONS OR RESERVATIONS- You can send a Text at:\n\n\n RSVP via email hummingbirdsofiowa@gmail.com or text 515-512-0330
URL:https://divinedirection.net/event/ayahuasca-ceremony-copy/
LOCATION:IA
CATEGORIES:Retreats
ATTACH;FMTTYPE=image/jpeg:https://divinedirection.net/wp-content/uploads/2024/06/1-3.jpg
ORGANIZER;CN="Hummingbirds of Iowa":MAILTO:hummingbirdsofiowa@gmail.com
END:VEVENT
BEGIN:VEVENT
DTSTART;TZID=UTC:20240920T170000
DTEND;TZID=UTC:20240922T000000
DTSTAMP:20260423T195442
CREATED:20240605T203416Z
LAST-MODIFIED:20240911T222815Z
UID:5507-1726851600-1726963200@divinedirection.net
SUMMARY:Ayahuasca Ceremony
DESCRIPTION:Discover the incredible potential of plant medicine in promoting trauma recovery and neural renewal. \n\nEmpower yourself to take control of your healing journey! \n\n\n\nJoin us for a transformative Yage Ceremony Weekend with Taita Pedro September 20th to 22nd! \n\n\n\nExperience the ancient healing traditions of the indigenous people of the Amazon rainforest. This weekend retreat will include:\n\n\n 1 night ceremony\n 2 day ceremonies\n Movement and yoga sessions\n Vegetarian meals\n 2 pre-ceremony integration calls\n 5 post-ceremony integration calls\n\n\nBenefits of Yage Ceremony:\n Deep spiritual healing and self-discovery\n Emotional release and trauma healing\n Increased self-awareness and clarity\n Connection with nature and the universe\n Personal growth and transformation\n\n\n\nRetreat Cost: $975.00\nPlease note that we do not charge for the medicine. The cost goes towards covering the overhead expenses of the event\, including bringing Taita Pedro to facilitate the ceremonies.\n\n\n\nDon’t miss this opportunity to embark on a profound journey of healing and transformation. Limited spots available. Reserve your spot today!\n\n\n \n\n\nPlease note that participation in the Yage Ceremony requires preparation and commitment. We recommend consulting with your healthcare professional before attending.\n\n\n \n \nFOR QUESTIONS OR RESERVATIONS- You can send a Text at:\n\n\n RSVP via email hummingbirdsofiowa@gmail.com or text 515-512-0330
URL:https://divinedirection.net/event/ayahuasca-ceremony/
LOCATION:IA
CATEGORIES:Retreats
ATTACH;FMTTYPE=image/jpeg:https://divinedirection.net/wp-content/uploads/2024/06/1-3.jpg
ORGANIZER;CN="Hummingbirds of Iowa":MAILTO:hummingbirdsofiowa@gmail.com
END:VEVENT
BEGIN:VEVENT
DTSTART;TZID=UTC:20240807T080000
DTEND;TZID=UTC:20240812T170000
DTSTAMP:20260423T195442
CREATED:20240605T202711Z
LAST-MODIFIED:20240605T203110Z
UID:5499-1723017600-1723482000@divinedirection.net
SUMMARY:Sedona Arizona Retreat
DESCRIPTION:Sedona Arizona Soul Sacred Retreat During the Sacred Lion’s Gate Portal\n\nAugust 7th – 12th 2024\n\n\n\nJoin us for a Soul Sacred Retreat in beautiful Sedona Arizona during the spectacular passage of the Lions Gate Portal.\n\n\n\nEscape to the enchanting red rock landscape of Sedona\, Arizona\, where nature’s beauty intertwines with profound spiritual energy. This retreat offers a transformative journey\, immersing you in the powerful earth energies of Sedona’s vortexes and divine pachamama energies.\n\n\n\nExperience the transformative\, healing and enlightening encounters with sacred plant medicine ceremonies featuring cacao\, rappé\, and kambo\, guided by experienced facilitators and shamanic practitioners.\n\n\n\nEngage in daily meditations\, body movement practices\, and mindful activities to deepen your connection with yourself and the universe. Each day during this Soul Sacred Retreat your spirit will be enlivened and inspired!\n\n\n\nOur stunning accommodations surrounded by nature and sacred earth elements are included in the price\, providing a luxurious sanctuary for your spiritual exploration and rejuvenation.\n\n\n\nSelf-Investment: $1\,333 – This amount covers your stay at a beautiful space hidden in Sedona Arizona surrounded by breathtaking nature – delicious and healthy meals – all materials for activities – sacred plant medicine ceremonies and more. (The above amount does not include your flights/transportation)\n\n\n\nAs always\, we appreciate your support and interest in our events!\n\n\n\nFOR QUESTIONS OR RESERVATIONS- You can send us a Text at:\n\n\nClaudia Morales – 515. 512. 0330
URL:https://divinedirection.net/event/sedona-arizona-retreat/
LOCATION:IA
CATEGORIES:Retreats
ORGANIZER;CN="Sacred Soul Retreats":MAILTO:soulsacredretreats@gmail.com
END:VEVENT
END:VCALENDAR