BEGIN:VCALENDAR
VERSION:2.0
PRODID:-//Divine Direction by Mia - ECPv6.15.20//NONSGML v1.0//EN
CALSCALE:GREGORIAN
METHOD:PUBLISH
X-ORIGINAL-URL:https://divinedirection.net
X-WR-CALDESC:Events for Divine Direction by Mia
REFRESH-INTERVAL;VALUE=DURATION:PT1H
X-Robots-Tag:noindex
X-PUBLISHED-TTL:PT1H
BEGIN:VTIMEZONE
TZID:UTC
BEGIN:STANDARD
TZOFFSETFROM:+0000
TZOFFSETTO:+0000
TZNAME:UTC
DTSTART:20240101T000000
END:STANDARD
END:VTIMEZONE
BEGIN:VEVENT
DTSTART;TZID=UTC:20251011T160000
DTEND;TZID=UTC:20251012T103000
DTSTAMP:20260424T062010
CREATED:20250626T174523Z
LAST-MODIFIED:20250716T161525Z
UID:6055-1760198400-1760265000@divinedirection.net
SUMMARY:Clearing the Ancestral Lineage:  Overnight Retreat
DESCRIPTION:Clearing the Ancestral Lineage: A Sacred Healing Event\nOctober 11/12\, 2025\n \nJoin us for a powerful gathering dedicated to clearing and healing the ancestral lineage. This immersive experience offers an opportunity to release inherited patterns\, unspoken grief\, and generational burdens—while honoring the wisdom\, resilience\, and strength of those who came before us.\n \nTogether\, in sacred ceremony\, we will engage in gentle yet profound practices that open pathways for remembrance\, reconciliation\, and energetic repair. Through ritual\, meditation\, altar work\, and intentional release\, we will clear what no longer serves\, making space for renewed balance and deeper connection to our roots.\n \nThis is a sacred call for those guided to do the work not only for themselves but for the seven generations before and after. Whether or not you know your ancestral stories\, your healing and your prayers will ripple across timelines and lifetimes.\n \nOur time together may include:\n\n• Creation of a communal ancestral altar\n• Guided lineage-clearing ritual\n• Reflective journaling and personal insight prompts\n• Fire ceremony \n• Heart-centered sharing in a safe\, supportive space\n• Journey with Plant Medicine\n \nCome as you are. Bring your open heart\, your prayers\, and any photographs or sacred items you feel called to place on the altar.\n\n\nInvestment: $295 includes meals\n  \n\nEarly intention-setting is encouraged.
URL:https://divinedirection.net/event/clearing-the-ancestral-lineage/
LOCATION:Dragon Queen Retreats & Event Center\, 3801 SW 28th Street\, Des Moines\, IA\, 50321\, United States
CATEGORIES:Retreats
ATTACH;FMTTYPE=image/jpeg:https://divinedirection.net/wp-content/uploads/2025/06/4.jpg
END:VEVENT
END:VCALENDAR