BEGIN:VCALENDAR
VERSION:2.0
PRODID:-//Divine Direction by Mia - ECPv6.15.20//NONSGML v1.0//EN
CALSCALE:GREGORIAN
METHOD:PUBLISH
X-WR-CALNAME:Divine Direction by Mia
X-ORIGINAL-URL:https://divinedirection.net
X-WR-CALDESC:Events for Divine Direction by Mia
REFRESH-INTERVAL;VALUE=DURATION:PT1H
X-Robots-Tag:noindex
X-PUBLISHED-TTL:PT1H
BEGIN:VTIMEZONE
TZID:UTC
BEGIN:STANDARD
TZOFFSETFROM:+0000
TZOFFSETTO:+0000
TZNAME:UTC
DTSTART:20210101T000000
END:STANDARD
END:VTIMEZONE
BEGIN:VEVENT
DTSTART;TZID=UTC:20230325T100000
DTEND;TZID=UTC:20230326T190000
DTSTAMP:20260423T212330
CREATED:20230202T172822Z
LAST-MODIFIED:20230202T172822Z
UID:4366-1679738400-1679857200@divinedirection.net
SUMMARY:DM Spring Equinox Psychic Fair
DESCRIPTION:I will be offering my Intuitive Reading’s\, at a Special Event Only Price. Also offering Mini Access Bar Sessions & Drum Massage.  \nHope to see you  there come check it out.
URL:https://divinedirection.net/event/dm-spring-equinox-psychic-fair/
CATEGORIES:Psychic Fair
ATTACH;FMTTYPE=application/pdf:https://divinedirection.net/wp-content/uploads/2023/02/Des-Moines-New-Age-Psychic-Fair-Application-Spring-Equinox-2023.pdf
END:VEVENT
BEGIN:VEVENT
DTSTART;TZID=UTC:20221105T100000
DTEND;TZID=UTC:20221105T170000
DTSTAMP:20260423T212330
CREATED:20221010T211222Z
LAST-MODIFIED:20221010T211222Z
UID:4207-1667642400-1667667600@divinedirection.net
SUMMARY:Fall Spirit Seekers Fair
DESCRIPTION:Unity Center 414 31st Street\, Des Moines\n\n\nI will be a vendor at the 2022 Fall Spirit Seekers Fair\, and I am so excited\,  I will be offering my Intuitive Reading’s\, at a Special Event Only Price. Also offering Mini Access Bar Sessions & Drum Massage. Hope to see you  there come check it out. \nIt is FREE to get in.
URL:https://divinedirection.net/event/fall-spirit-seekers-fair/
LOCATION:Unity Church\, 414 31st Street\, Des Moines\, IA\, 50312\, United States
CATEGORIES:Psychic Fair,workshops
ATTACH;FMTTYPE=image/jpeg:https://divinedirection.net/wp-content/uploads/2022/10/2-3.jpg
END:VEVENT
BEGIN:VEVENT
DTSTART;TZID=UTC:20220611T100000
DTEND;TZID=UTC:20220611T170000
DTSTAMP:20260423T212331
CREATED:20220602T001257Z
LAST-MODIFIED:20220602T001257Z
UID:3945-1654941600-1654966800@divinedirection.net
SUMMARY:2022 Spirit Seekers Fair
DESCRIPTION:I will be a vendor at the 2022 Spirit Seekers Fair\, and I am so excited\,  I will be offering my Intuitive Reading’s\, at a Special Event Only Price. Also offering Mini Access Bar Sessions & Drum Massage.\n\nHope to see you  there come check it out.
URL:https://divinedirection.net/event/2022-spirit-seekers-fair/
LOCATION:Unity Church\, 414 31st Street\, Des Moines\, IA\, 50312\, United States
CATEGORIES:Expos,Psychic Fair,workshops
END:VEVENT
BEGIN:VEVENT
DTSTART;TZID=UTC:20220521T110000
DTEND;TZID=UTC:20220522T180000
DTSTAMP:20260423T212331
CREATED:20220220T190822Z
LAST-MODIFIED:20220402T182032Z
UID:3496-1653130800-1653242400@divinedirection.net
SUMMARY:Iowa Metaphysical Fair
DESCRIPTION:I will be a vendor at the 32nd Annual Iowa Metaphysical Fair. \n\n\n\n\nMy 2nd year participating\, and I am so excited\, we will be at the Iowa State Fair grounds in the 4-H building. \n\n\n\nI will be offering my Intuitive Reading’s\, at a Special Event Only Price. Dont want to wait? Book Now!\nI will use Tarot cards\, Witch Stones & Bones\, Crystals and a Witch’s Bridal to give you a magical reading of wisdom and guidance.\n\n\n\n\nHope to see you there\, look for my Gypsy themed booth! \nMay 21 & 22\, 11 am- 8 pm 4H Building Iowa State Fairgrounds
URL:https://divinedirection.net/event/iowa-metaphysical-fair-3/
LOCATION:Iowa State Fairgrounds\, 3000 E Grand Ave\, Des Moines\, IA\, 50317\, United States
CATEGORIES:Psychic Fair
ATTACH;FMTTYPE=image/jpeg:https://divinedirection.net/wp-content/uploads/2022/02/6-2.jpg
END:VEVENT
END:VCALENDAR