BEGIN:VCALENDAR
VERSION:2.0
PRODID:-//Divine Direction by Mia - ECPv6.15.20//NONSGML v1.0//EN
CALSCALE:GREGORIAN
METHOD:PUBLISH
X-WR-CALNAME:Divine Direction by Mia
X-ORIGINAL-URL:https://divinedirection.net
X-WR-CALDESC:Events for Divine Direction by Mia
REFRESH-INTERVAL;VALUE=DURATION:PT1H
X-Robots-Tag:noindex
X-PUBLISHED-TTL:PT1H
BEGIN:VTIMEZONE
TZID:UTC
BEGIN:STANDARD
TZOFFSETFROM:+0000
TZOFFSETTO:+0000
TZNAME:UTC
DTSTART:20240101T000000
END:STANDARD
END:VTIMEZONE
BEGIN:VEVENT
DTSTART;TZID=UTC:20251018T080000
DTEND;TZID=UTC:20251018T170000
DTSTAMP:20260424T044603
CREATED:20250911T175736Z
LAST-MODIFIED:20250911T180010Z
UID:6266-1760774400-1760806800@divinedirection.net
SUMMARY:Fall Spirit Seekers Fair
DESCRIPTION:On Saturday the 18th\, fom 11-5.\n\n\nI’ll be at the Unity Fall Seekers Fair\, with my Witch Wares and offering enchanted readings.\n\n\nThe veil opens for those who reserve their spot early—will you heed the call?\n\n\n\nThe energy fills quickly\, so if you feel called\, reserve your place ahead of time by sending me a text. Walk-ins are welcome as Spirit allows\, but pre-booking ensures your sacred time. \n515-577-5243
URL:https://divinedirection.net/event/fall-spirit-seekers-fair-2/
LOCATION:Unity Church\, 414 31st Street\, Des Moines\, IA\, 50312\, United States
CATEGORIES:Psychic Fair
ATTACH;FMTTYPE=image/jpeg:https://divinedirection.net/wp-content/uploads/2025/09/2.jpg
END:VEVENT
BEGIN:VEVENT
DTSTART;TZID=UTC:20251018T080000
DTEND;TZID=UTC:20251019T170000
DTSTAMP:20260424T044604
CREATED:20250911T175325Z
LAST-MODIFIED:20250911T175808Z
UID:6263-1760774400-1760893200@divinedirection.net
SUMMARY:Mystic Market
DESCRIPTION:On Sunday the 19th\, from 11-5.\n\n\nI’ll be at the Market with my Mystic Witch Wares and offering enchanted readings.\n\n\nThe veil opens for those who reserve their spot early—will you heed the call?\n\n\n\nThe energy fills quickly\, so if you feel called\, reserve your place ahead of time by sending me a text. Walk-ins are welcome as Spirit allows\, but pre-booking ensures your sacred time. \n515-577-5243
URL:https://divinedirection.net/event/mystic-market-fair/
LOCATION:OPE\, 3419 SW 9th St\, Des Moines\, IA\, 50312\, United States
CATEGORIES:Psychic Fair
ATTACH;FMTTYPE=image/jpeg:https://divinedirection.net/wp-content/uploads/2025/09/1.jpg
END:VEVENT
END:VCALENDAR