BEGIN:VCALENDAR
VERSION:2.0
PRODID:-//Divine Direction by Mia - ECPv6.15.20//NONSGML v1.0//EN
CALSCALE:GREGORIAN
METHOD:PUBLISH
X-ORIGINAL-URL:https://divinedirection.net
X-WR-CALDESC:Events for Divine Direction by Mia
REFRESH-INTERVAL;VALUE=DURATION:PT1H
X-Robots-Tag:noindex
X-PUBLISHED-TTL:PT1H
BEGIN:VTIMEZONE
TZID:UTC
BEGIN:STANDARD
TZOFFSETFROM:+0000
TZOFFSETTO:+0000
TZNAME:UTC
DTSTART:20230101T000000
END:STANDARD
END:VTIMEZONE
BEGIN:VEVENT
DTSTART;TZID=UTC:20241102T120000
DTEND;TZID=UTC:20241102T180000
DTSTAMP:20260424T235425
CREATED:20241006T182840Z
LAST-MODIFIED:20241006T182840Z
UID:5637-1730548800-1730570400@divinedirection.net
SUMMARY:MYSTIC MARKET
DESCRIPTION:Featuring conscious creaters spiritual readers\, healers and more…. I will be doing my Witch Stone Readings at a Discounted price.
URL:https://divinedirection.net/event/mystic-market/
LOCATION:OPE\, 3419 SW 9th St\, Des Moines\, IA\, 50312\, United States
CATEGORIES:Farmer's Market,Pop-Up Readings
END:VEVENT
END:VCALENDAR