BEGIN:VCALENDAR
VERSION:2.0
PRODID:-//Divine Direction by Mia - ECPv6.15.20//NONSGML v1.0//EN
CALSCALE:GREGORIAN
METHOD:PUBLISH
X-WR-CALNAME:Divine Direction by Mia
X-ORIGINAL-URL:https://divinedirection.net
X-WR-CALDESC:Events for Divine Direction by Mia
REFRESH-INTERVAL;VALUE=DURATION:PT1H
X-Robots-Tag:noindex
X-PUBLISHED-TTL:PT1H
BEGIN:VTIMEZONE
TZID:UTC
BEGIN:STANDARD
TZOFFSETFROM:+0000
TZOFFSETTO:+0000
TZNAME:UTC
DTSTART:20190101T000000
END:STANDARD
END:VTIMEZONE
BEGIN:VEVENT
DTSTART;TZID=UTC:20260314T100000
DTEND;TZID=UTC:20260314T170000
DTSTAMP:20260423T195050
CREATED:20260109T194933Z
LAST-MODIFIED:20260129T191601Z
UID:6397-1773482400-1773507600@divinedirection.net
SUMMARY:Art & Craft Fair
DESCRIPTION:Come explore- Connect and Inspire…. I will have my spiritual wares available—crafted to nourish your rituals\, intentions\, and spiritual path.
URL:https://divinedirection.net/event/art-craft-fair/
LOCATION:Unity Church\, 414 31st Street\, Des Moines\, IA\, 50312\, United States
CATEGORIES:Expos,Farmer's Market
ATTACH;FMTTYPE=image/jpeg:https://divinedirection.net/wp-content/uploads/2021/07/4-7.jpg
END:VEVENT
BEGIN:VEVENT
DTSTART;TZID=UTC:20251108T080000
DTEND;TZID=UTC:20251109T173000
DTSTAMP:20260423T195050
CREATED:20250105T153208Z
LAST-MODIFIED:20250211T210501Z
UID:5718-1762588800-1762709400@divinedirection.net
SUMMARY:Midwest Meta Expo 2025
DESCRIPTION:I will be offering my Witch Stone Readings\, Access Bars\, and Get Forked at a Special Event Only Price. \nHope to see you  there come check it out. Pre-book your reading. Call me 515.577.5243 \nThis is at the Horizon Event Center\, DSM. \nNovember 8 & 9th \n 
URL:https://divinedirection.net/event/midwest-meta-expo-in-sioux-falls/
LOCATION:Horizon Event Center\, 2100 N.W. 100th\, Clive\, IA
CATEGORIES:Expos,Psychic Fair
ATTACH;FMTTYPE=image/jpeg:https://divinedirection.net/wp-content/uploads/2024/09/me-with-butterflies-scaled.jpg
ORGANIZER;CN="Midwest Metaphysical Expo":MAILTO:MidwestMetaExpo @gmail.co
END:VEVENT
BEGIN:VEVENT
DTSTART;TZID=UTC:20241109T080000
DTEND;TZID=UTC:20241110T170000
DTSTAMP:20260423T195050
CREATED:20231128T194743Z
LAST-MODIFIED:20240131T212542Z
UID:5213-1731139200-1731258000@divinedirection.net
SUMMARY:2024 Midwest Metaphysical Expo
DESCRIPTION:I will be offering my Witch Stone or Bone Readings\, at a Special Event Only Price. Also offering Mini Access Bar Sessions & Drum Massage. Hope to see you  there come check it out. Pre-book your reading. Call me 515.577.5243
URL:https://divinedirection.net/event/spring-2024-midwest-metaphysical-expo/
LOCATION:Woodsmith Building\, 10320 Hickman Road\, Clive\, IA\, 50325\, United States
CATEGORIES:Expos,Psychic Fair
ATTACH;FMTTYPE=image/jpeg:https://divinedirection.net/wp-content/uploads/2023/11/4.jpg
ORGANIZER;CN="Midwest Metaphysical Expo":MAILTO:MidwestMetaExpo @gmail.co
END:VEVENT
BEGIN:VEVENT
DTSTART;TZID=UTC:20240928T100000
DTEND;TZID=UTC:20240929T180000
DTSTAMP:20260423T195050
CREATED:20240605T165256Z
LAST-MODIFIED:20240605T165256Z
UID:5477-1727517600-1727632800@divinedirection.net
SUMMARY:Ames Psychic & Paranormal Expo
DESCRIPTION:Join me at the 12th Annual Ames Psychic & Paranormal Expo. \n\n I will be offering my Witch Stone Readings\, at a Special Event Only Price. Also offering Mini Access Bar Sessions & Drum Massage. Hope to see you  there come check it out. Pre-book your reading. Call me 515.577.5243\n\nOne of the best expos in the midwest featuring 30+ vendors!! Psychics\, medium\, paranormal teams\, haunted locations\, healings\, reiki\, reflexology\, stones\, gems\, drums\, tarot cards\, shamans\, candles\, herbs\, books and SO much more!!!!\n\nAdmission to the expo is only $5 per day!!  \n\nLocation: Radisson Hotel Ames Conference Center at ISU
URL:https://divinedirection.net/event/ames-psychic-paranormal-expo-2/
LOCATION:Radisson Hotel Ames Conference Center\, 2609 University Blvd.\, Ames\, IA\, 50010\, United States
CATEGORIES:Expos,Psychic Fair
ATTACH;FMTTYPE=image/jpeg:https://divinedirection.net/wp-content/uploads/2024/06/q.jpg
ORGANIZER;CN="Moonspiner":MAILTO:travelersmoonpara@gmail.com
END:VEVENT
BEGIN:VEVENT
DTSTART;TZID=UTC:20240608T080000
DTEND;TZID=UTC:20240609T170000
DTSTAMP:20260423T195050
CREATED:20240229T175349Z
LAST-MODIFIED:20240229T175349Z
UID:5354-1717833600-1717952400@divinedirection.net
SUMMARY:Spring Mystic Fest 2024
DESCRIPTION:Mystic Fest is Nebraska’s biggest psychic fair with Tarot Readers\, Astrology Readers\, Healers\, Massage Therapists\, Aura Photography and venders with crystals\, jewelry\, candles\, oils\, clothing\, incense and so much more!  \n\nLocated at the Mid-American Center\nFree admission\nFree parking\nFamily friendly\nSaturday\, June 8th from 10-6\, Sunday June 9th from 11-5. \nI will be offering my Witch Stone Readings & Curio Magical Items…..Hope to see you there come check it out. Pre-book your reading. Call me 515.577.5243
URL:https://divinedirection.net/event/spring-mystic-fest-2024/
LOCATION:Next Millennium\, 1 Arena Way\, Council Bluffs\, IA\, 51501\, United States
CATEGORIES:Expos,Psychic Fair
ATTACH;FMTTYPE=image/png:https://divinedirection.net/wp-content/uploads/2024/02/1.png
END:VEVENT
BEGIN:VEVENT
DTSTART;TZID=UTC:20220611T100000
DTEND;TZID=UTC:20220611T170000
DTSTAMP:20260423T195050
CREATED:20220602T001257Z
LAST-MODIFIED:20220602T001257Z
UID:3945-1654941600-1654966800@divinedirection.net
SUMMARY:2022 Spirit Seekers Fair
DESCRIPTION:I will be a vendor at the 2022 Spirit Seekers Fair\, and I am so excited\,  I will be offering my Intuitive Reading’s\, at a Special Event Only Price. Also offering Mini Access Bar Sessions & Drum Massage.\n\nHope to see you  there come check it out.
URL:https://divinedirection.net/event/2022-spirit-seekers-fair/
LOCATION:Unity Church\, 414 31st Street\, Des Moines\, IA\, 50312\, United States
CATEGORIES:Expos,Psychic Fair,workshops
END:VEVENT
BEGIN:VEVENT
DTSTART;TZID=UTC:20211113T100000
DTEND;TZID=UTC:20211114T170000
DTSTAMP:20260423T195050
CREATED:20210715T220744Z
LAST-MODIFIED:20211011T172818Z
UID:2931-1636797600-1636909200@divinedirection.net
SUMMARY:Midwest Metaphysical Expo
DESCRIPTION:EVENT CANCELLED DUE TO COVID CONCERNS \nMidwest Metaphysical Expo \nI will be doing Mind & Body Tarot readings at this Fair!  \nWHEN: Saturday\, November 13th 10 am – 7 pm\,  Sunday\, November 14th 10 am – 5 pm  \nWHERE: Iowa State Fair Grounds \nBOOTH NAME: Divine Direction/ Mia’s Spirtual Guidance & Massage  \n 
URL:https://divinedirection.net/event/midwest-metaphysical-expo/
LOCATION:IA
CATEGORIES:Expos,workshops
ATTACH;FMTTYPE=image/jpeg:https://divinedirection.net/wp-content/uploads/2021/07/8-1.jpg
ORGANIZER;CN="Midwest Metaphysical Expo":MAILTO:MidwestMetaExpo @gmail.co
END:VEVENT
BEGIN:VEVENT
DTSTART;TZID=UTC:20210925T100000
DTEND;TZID=UTC:20210926T170000
DTSTAMP:20260423T195050
CREATED:20210715T215121Z
LAST-MODIFIED:20210901T174750Z
UID:2923-1632564000-1632675600@divinedirection.net
SUMMARY:Ames Psychic & Paranormal Expo
DESCRIPTION:Ames Psychic & Paranormal Expo\n\n\n\nI will be doing Mind & Body Tarot readings at this Fair!\n\n\n\nWHEN: Saturday\, September 25th 10 am – 6 pm\nSunday\, Sunday\, September 26th 10 am – 5 pm\n\n\n\nWHERE: Scheman Building on the ISU campus\n\n\n\nBOOTH NAME: Divine Direction/ Mia’s Spirtual Guidance & Massage\n\n\n\nTo Learn more about the Expo….go to the “Psychic and Paranormal Expo Group” facebook page\n\n\nStop by and say HI….I look forward to seeing you there!
URL:https://divinedirection.net/event/ames-psychic-paranormal-expo/
LOCATION:Scheman Building\, 1805 Center Drive\, Ames\, IA\, 50011\, United States
CATEGORIES:Expos
ATTACH;FMTTYPE=image/jpeg:https://divinedirection.net/wp-content/uploads/2021/07/1-5.jpg
END:VEVENT
BEGIN:VEVENT
DTSTART;VALUE=DATE:20210523
DTEND;VALUE=DATE:20210525
DTSTAMP:20260423T195050
CREATED:20210310T210105Z
LAST-MODIFIED:20210310T210105Z
UID:2262-1621728000-1621900799@divinedirection.net
SUMMARY:Iowa Metaphysical Fair
DESCRIPTION: Join me at the 31st Annual IMF on May 22 & May 23\, 2021\n\n\nWe will be at the 4H Building located at the Iowa State Fair Grounds \nFair hours are Saturday\, 11:00 – 8:00 and Sunday 11:00 – 6:00 \n I will be administering my popular Tarot Readings. Stop by and say hello. I would like to see you!
URL:https://divinedirection.net/event/iowa-metaphysical-fair-2/
LOCATION:Iowa State Fairgrounds\, 3000 E Grand Ave\, Des Moines\, IA\, 50317\, United States
CATEGORIES:Expos,workshops
ATTACH;FMTTYPE=image/jpeg:https://divinedirection.net/wp-content/uploads/2021/03/7-1.jpg
END:VEVENT
BEGIN:VEVENT
DTSTART;TZID=UTC:20200905T110000
DTEND;TZID=UTC:20200906T180000
DTSTAMP:20260423T195050
CREATED:20200330T211143Z
LAST-MODIFIED:20200529T144500Z
UID:809-1599303600-1599415200@divinedirection.net
SUMMARY:Iowa Metaphysical Fair
DESCRIPTION:  \nJoin me at the 31st Annual Iowa Metaphysical Fair on September 5 – 6th. We will be at the Yonker’s Building in Merle Hay Mall.\nFair hours are Saturday\, 11:00 – 8:00 and Sunday 11:00 – 6:00 \nI will be administering my popular Tarot Readings. Stop by and say hello. I would like to meet all my friends. \nMia Hudson
URL:https://divinedirection.net/event/iowa-metaphysical-fair/
LOCATION:Younkers Building\, 3800 Merle Hay Road\, Des Moines\, IA\, 50310\, United States
CATEGORIES:Expos
ATTACH;FMTTYPE=image/jpeg:https://divinedirection.net/wp-content/uploads/2020/03/1-1.jpg
END:VEVENT
BEGIN:VEVENT
DTSTART;TZID=UTC:20200807T163000
DTEND;TZID=UTC:20200809T203000
DTSTAMP:20260423T195050
CREATED:20200404T145301Z
LAST-MODIFIED:20200404T151016Z
UID:1045-1596817800-1597005000@divinedirection.net
SUMMARY:Des Moines Renaissance Faire
DESCRIPTION:I will be doing Chair massage at the 15th Annual Faire. \nAugust 7 Friday\, 4:30 – 8:30\nSaturday 10:30-8:30\nSunday 10:30-5:30 \n  \nHttp:www.dmrenfaire.com \n 
URL:https://divinedirection.net/event/des-moines-renaissance-faire/
LOCATION:Puttmasters At The Pines\, 2977 NW 66th Ave\, Des Moines\, IA\, 50313\, United States
CATEGORIES:Expos
END:VEVENT
END:VCALENDAR