BEGIN:VCALENDAR
VERSION:2.0
PRODID:-//Divine Direction by Mia - ECPv6.15.20//NONSGML v1.0//EN
CALSCALE:GREGORIAN
METHOD:PUBLISH
X-ORIGINAL-URL:https://divinedirection.net
X-WR-CALDESC:Events for Divine Direction by Mia
REFRESH-INTERVAL;VALUE=DURATION:PT1H
X-Robots-Tag:noindex
X-PUBLISHED-TTL:PT1H
BEGIN:VTIMEZONE
TZID:UTC
BEGIN:STANDARD
TZOFFSETFROM:+0000
TZOFFSETTO:+0000
TZNAME:UTC
DTSTART:20250101T000000
END:STANDARD
END:VTIMEZONE
BEGIN:VEVENT
DTSTART;TZID=UTC:20260203T190000
DTEND;TZID=UTC:20260203T210000
DTSTAMP:20260423T192432
CREATED:20260109T195632Z
LAST-MODIFIED:20260109T195756Z
UID:6400-1770145200-1770152400@divinedirection.net
SUMMARY:Inner Knowing Workshop
DESCRIPTION:Come and explore your intuition in a fun interactive welcoming workshop designed to help you trust your inner voice and reconnect with your natural wisdom. \nDonation Based
URL:https://divinedirection.net/event/inner-knowing-workshop/
LOCATION:Sacred Tuesdays\, 6005 Winona Ave\, Des Moines\, IA\, 50312\, United States
CATEGORIES:workshops
ATTACH;FMTTYPE=image/jpeg:https://divinedirection.net/wp-content/uploads/2026/01/3.jpg
END:VEVENT
END:VCALENDAR