BEGIN:VCALENDAR
VERSION:2.0
PRODID:-//Divine Direction by Mia - ECPv6.15.20//NONSGML v1.0//EN
CALSCALE:GREGORIAN
METHOD:PUBLISH
X-WR-CALNAME:Divine Direction by Mia
X-ORIGINAL-URL:https://divinedirection.net
X-WR-CALDESC:Events for Divine Direction by Mia
REFRESH-INTERVAL;VALUE=DURATION:PT1H
X-Robots-Tag:noindex
X-PUBLISHED-TTL:PT1H
BEGIN:VTIMEZONE
TZID:UTC
BEGIN:STANDARD
TZOFFSETFROM:+0000
TZOFFSETTO:+0000
TZNAME:UTC
DTSTART:20240101T000000
END:STANDARD
END:VTIMEZONE
BEGIN:VEVENT
DTSTART;TZID=UTC:20251206T100000
DTEND;TZID=UTC:20251206T170000
DTSTAMP:20260423T221204
CREATED:20251023T010403Z
LAST-MODIFIED:20251023T010452Z
UID:6316-1765015200-1765040400@divinedirection.net
SUMMARY:Arts Fair at Unity
DESCRIPTION:Art and Crafts\, Crystals\, Books\, food and more….Geta jump start on your Christmas shopping. \n  \nI’ll have a booth selling Spiritual supplies- crystals\, smudging tools\, spell kits\, energy sprays  and incense to name a few.
URL:https://divinedirection.net/event/arts-fair-at-unity/
LOCATION:Unity Church\, 414 31st Street\, Des Moines\, IA\, 50312\, United States
CATEGORIES:Farmer's Market
ATTACH;FMTTYPE=image/jpeg:https://divinedirection.net/wp-content/uploads/2025/10/1.jpg
END:VEVENT
END:VCALENDAR