BEGIN:VCALENDAR
VERSION:2.0
PRODID:-//Divine Direction by Mia - ECPv6.15.20//NONSGML v1.0//EN
CALSCALE:GREGORIAN
METHOD:PUBLISH
X-WR-CALNAME:Divine Direction by Mia
X-ORIGINAL-URL:https://divinedirection.net
X-WR-CALDESC:Events for Divine Direction by Mia
REFRESH-INTERVAL;VALUE=DURATION:PT1H
X-Robots-Tag:noindex
X-PUBLISHED-TTL:PT1H
BEGIN:VTIMEZONE
TZID:UTC
BEGIN:STANDARD
TZOFFSETFROM:+0000
TZOFFSETTO:+0000
TZNAME:UTC
DTSTART:20240101T000000
END:STANDARD
END:VTIMEZONE
BEGIN:VEVENT
DTSTART;TZID=UTC:20250228T183000
DTEND;TZID=UTC:20250228T210000
DTSTAMP:20260424T120229
CREATED:20250115T211131Z
LAST-MODIFIED:20250129T222939Z
UID:5730-1740767400-1740776400@divinedirection.net
SUMMARY:Sacred Women's Circle
DESCRIPTION:If you’ve never sat in a women’s circle\, you may wonder what all the fuss is about. Allow me to paint a picture for you… \nWomen’s circles have been a part of human culture for centuries\, bringing women together to share from their hearts\, support and empower each other. They are sacred spaces where women connect deeply with each other\, share experiences\, and find strength and encouragement. \nA women’s circle is typically a gathering of women who come together with a common intention\, such as personal growth\, spiritual development\, or healing. Circles can take many forms\, from informal gatherings among friends to more structured events.   Intentionally intimate so we can get to know one another on a deeper level. \n\nHere are some of the benefits of joining or starting a women’s circle: \n1. A Safe and Sacred Space\nWomen’s circles provide a safe and sacred space for women to share their thoughts\, feelings\, and experiences without fear of judgment or criticism. The circle is a space where women can be vulnerable\, authentic\, and truly themselves. \n2. Connection and Community\nCan help women feel less isolated and more connected to other women in their community. The circle provides an opportunity to meet new people\, make friends\, and build a supportive community. \n3. Empowerment and Personal Growth\nHelping women to develop a greater sense of self-awareness\, self-confidence and self-love. The circle is a space where women can explore their inner selves\, set intentions\, and work towards personal growth and transformation. \n4. Ritual and Ceremony\nOften include rituals and ceremonies that honor the cycles of nature\, the seasons of life\, and the devine femine. These rituals can be grounding\, healing\, and transformative\, helping women to connect with their inner wisdom and intuition. \n5. Inspiration and Creativity\nWomen’s circles can be a source of inspiration and creativity\, providing a space for women to explore their passions\, talents\, and creativity. The circle is a space where women can share their ideas\, dreams\, and visions\, and receive support and encouragement from other women.   \n\nOne of the most important aspects of women’s circles is the sense of sisterhood and community they create.
URL:https://divinedirection.net/event/sacred-womens-circle/
LOCATION:Sacred Womens Circle\, 6005 Winona Ave\, Des Moines\, IA\, 50312\, United States
CATEGORIES:workshops
ATTACH;FMTTYPE=image/jpeg:https://divinedirection.net/wp-content/uploads/2023/08/5-3.jpg
END:VEVENT
END:VCALENDAR