BEGIN:VCALENDAR
VERSION:2.0
PRODID:-//Divine Direction by Mia - ECPv6.15.20//NONSGML v1.0//EN
CALSCALE:GREGORIAN
METHOD:PUBLISH
X-WR-CALNAME:Divine Direction by Mia
X-ORIGINAL-URL:https://divinedirection.net
X-WR-CALDESC:Events for Divine Direction by Mia
REFRESH-INTERVAL;VALUE=DURATION:PT1H
X-Robots-Tag:noindex
X-PUBLISHED-TTL:PT1H
BEGIN:VTIMEZONE
TZID:UTC
BEGIN:STANDARD
TZOFFSETFROM:+0000
TZOFFSETTO:+0000
TZNAME:UTC
DTSTART:20230101T000000
END:STANDARD
END:VTIMEZONE
BEGIN:VEVENT
DTSTART;TZID=UTC:20241023T180000
DTEND;TZID=UTC:20241023T200000
DTSTAMP:20260424T193304
CREATED:20240917T202254Z
LAST-MODIFIED:20240917T234343Z
UID:5596-1729706400-1729713600@divinedirection.net
SUMMARY:ELEMENTAL WORKSHOP VIA ZOOM
DESCRIPTION:HARNESS THE POWER OF THE ELEMENTS\nThis isn’t just another event—it’s a transformational experience that will leave you feeling balanced\, energized\, and deeply connected to the natural world around you.  Sign up in the Workshops tab. or text 515.577.5243 \nDONT WORRY IF YOU CAN’T ATTEND ZOOM\, THE GUIDE IS A STEP BY STEP GUIDE WITH 8 RITUALS.
URL:https://divinedirection.net/event/elemental-workshop-via-zoom/
LOCATION:Divine Direction By Mia\, 414 31st Street\, Des Moines\, IA\, 50312\, United States
CATEGORIES:workshops
ATTACH;FMTTYPE=image/jpeg:https://divinedirection.net/wp-content/uploads/2024/09/ELEMENTAL-PHOTO.jpg
END:VEVENT
END:VCALENDAR