BEGIN:VCALENDAR
VERSION:2.0
PRODID:-//Divine Direction by Mia - ECPv6.15.20//NONSGML v1.0//EN
CALSCALE:GREGORIAN
METHOD:PUBLISH
X-ORIGINAL-URL:https://divinedirection.net
X-WR-CALDESC:Events for Divine Direction by Mia
REFRESH-INTERVAL;VALUE=DURATION:PT1H
X-Robots-Tag:noindex
X-PUBLISHED-TTL:PT1H
BEGIN:VTIMEZONE
TZID:UTC
BEGIN:STANDARD
TZOFFSETFROM:+0000
TZOFFSETTO:+0000
TZNAME:UTC
DTSTART:20230101T000000
END:STANDARD
END:VTIMEZONE
BEGIN:VEVENT
DTSTART;TZID=UTC:20240504T100000
DTEND;TZID=UTC:20240504T190000
DTSTAMP:20260425T023634
CREATED:20240306T161957Z
LAST-MODIFIED:20240306T161957Z
UID:5368-1714816800-1714849200@divinedirection.net
SUMMARY:Pagan Jubilee
DESCRIPTION:Join us for a vibrant and enchanting celebration of Beltane at our Pagan Jubilee event on May 4th\, 2024! Immerse yourself in a day filled with joy\, spirituality\, and community as we honor the arrival of spring and the sacred energies of fertility and growth. \nI  will be a vendor at the Pagan Jubilee helping to celbrate Beltane.  I will be offering my Intuitive Reading’s\, at a Special Event Only Price. Also offering Mini Access Bar Sessions & Drum Massage. Hope to see you  there come check it out. Pre-book your reading. Call me 515.577.5243   \nMay 4th\, 2024\, 10 AM- 7 PM \nFirst Unitarian Church of Des Moines\, 1800 Bell Ave\, Des Moines\, IA 50315\, USA \n 
URL:https://divinedirection.net/event/pagan-jubilee/
LOCATION:Sacred Bridges Cuups\, 1800 Bell Ave\, Des Moines\, 50315\, United States
CATEGORIES:Psychic Fair
ATTACH;FMTTYPE=image/png:https://divinedirection.net/wp-content/uploads/2023/10/3.png
ORGANIZER;CN="Sacred Bridges Cuups":MAILTO:sacredbridgescuups@gmail.com
END:VEVENT
END:VCALENDAR