BEGIN:VCALENDAR
VERSION:2.0
PRODID:-//Divine Direction by Mia - ECPv6.15.20//NONSGML v1.0//EN
CALSCALE:GREGORIAN
METHOD:PUBLISH
X-WR-CALNAME:Divine Direction by Mia
X-ORIGINAL-URL:https://divinedirection.net
X-WR-CALDESC:Events for Divine Direction by Mia
REFRESH-INTERVAL;VALUE=DURATION:PT1H
X-Robots-Tag:noindex
X-PUBLISHED-TTL:PT1H
BEGIN:VTIMEZONE
TZID:UTC
BEGIN:STANDARD
TZOFFSETFROM:+0000
TZOFFSETTO:+0000
TZNAME:UTC
DTSTART:20220101T000000
END:STANDARD
END:VTIMEZONE
BEGIN:VEVENT
DTSTART;TZID=UTC:20231020T190000
DTEND;TZID=UTC:20231020T220000
DTSTAMP:20260425T133911
CREATED:20231001T191930Z
LAST-MODIFIED:20231001T191930Z
UID:5109-1697828400-1697839200@divinedirection.net
SUMMARY:POP-UP TAROT READING
DESCRIPTION:Halloween Themed Party at Grand Entrance Tattoo and Red Light Boutique. \nThere will be a full spooky bar\, DJ\, and me doing my Witch Stone Readings. \nBehind Veridian Bank. Off The Corner Of Euclid And Martin Luther King Pkwy.
URL:https://divinedirection.net/event/pop-up-tarot-reading/
LOCATION:grand entrance tatoo\, 1905 Ingersoll Ave Unit 101\, Des Moines\, 50309\, United States
CATEGORIES:Pop-Up Readings
ATTACH;FMTTYPE=image/jpeg:https://divinedirection.net/wp-content/uploads/2023/10/Me-at-Fair.jpg
END:VEVENT
END:VCALENDAR